BEGIN:VCALENDAR
VERSION:2.0
PRODID:-//2026 NCAA Men’s Final Four Indianapolis - ECPv6.15.12.2//NONSGML v1.0//EN
CALSCALE:GREGORIAN
METHOD:PUBLISH
X-WR-CALNAME:2026 NCAA Men’s Final Four Indianapolis
X-ORIGINAL-URL:https://finalfourindy.com
X-WR-CALDESC:Events for 2026 NCAA Men’s Final Four Indianapolis
REFRESH-INTERVAL;VALUE=DURATION:PT1H
X-Robots-Tag:noindex
X-PUBLISHED-TTL:PT1H
BEGIN:VTIMEZONE
TZID:America/Indiana/Indianapolis
BEGIN:DAYLIGHT
TZOFFSETFROM:-0500
TZOFFSETTO:-0400
TZNAME:EDT
DTSTART:20240310T070000
END:DAYLIGHT
BEGIN:STANDARD
TZOFFSETFROM:-0400
TZOFFSETTO:-0500
TZNAME:EST
DTSTART:20241103T060000
END:STANDARD
BEGIN:DAYLIGHT
TZOFFSETFROM:-0500
TZOFFSETTO:-0400
TZNAME:EDT
DTSTART:20250309T070000
END:DAYLIGHT
BEGIN:STANDARD
TZOFFSETFROM:-0400
TZOFFSETTO:-0500
TZNAME:EST
DTSTART:20251102T060000
END:STANDARD
BEGIN:DAYLIGHT
TZOFFSETFROM:-0500
TZOFFSETTO:-0400
TZNAME:EDT
DTSTART:20260308T070000
END:DAYLIGHT
BEGIN:STANDARD
TZOFFSETFROM:-0400
TZOFFSETTO:-0500
TZNAME:EST
DTSTART:20261101T060000
END:STANDARD
BEGIN:DAYLIGHT
TZOFFSETFROM:-0500
TZOFFSETTO:-0400
TZNAME:EDT
DTSTART:20270314T070000
END:DAYLIGHT
BEGIN:STANDARD
TZOFFSETFROM:-0400
TZOFFSETTO:-0500
TZNAME:EST
DTSTART:20271107T060000
END:STANDARD
END:VTIMEZONE
BEGIN:VEVENT
DTSTART;TZID=America/Indiana/Indianapolis:20260213T170000
DTEND;TZID=America/Indiana/Indianapolis:20260213T210000
DTSTAMP:20260422T051521
CREATED:20260129T221731Z
LAST-MODIFIED:20260129T221731Z
UID:10000091-1771002000-1771016400@finalfourindy.com
SUMMARY:100 Days Out until the Indy 500 Fan Party
DESCRIPTION:Join us as Fan Jam celebrates being 100 Days Out from the Indy 500 Fan Party!
URL:https://finalfourindy.com/fan-jam-event/100-days-out-until-the-indy-500-fan-party/
LOCATION:Indianapolis Motor Speedway\, 4790 W 16th St\, Indianapolis\, IN\, 46222\, United States
ATTACH;FMTTYPE=image/png:https://finalfourindy.com/wp-content/uploads/ffi-graphic-placeholder-dark@2x.png
END:VEVENT
BEGIN:VEVENT
DTSTART;VALUE=DATE:20250727
DTEND;VALUE=DATE:20250728
DTSTAMP:20260422T051521
CREATED:20250328T141552Z
LAST-MODIFIED:20250605T154838Z
UID:10000017-1753574400-1753660799@finalfourindy.com
SUMMARY:Brickyard Weekend
DESCRIPTION:The Brickyard 400 is back\, and it’s going to be a show-stopping event you have to see to believe! July 26-27\, 2025\, NASCAR returns to the famed 2.5-mile oval and celebrates another historic year at the Racing Capital of the World.
URL:https://finalfourindy.com/fan-jam-event/brickyard-weekend/
LOCATION:Indianapolis Motor Speedway\, 4790 W 16th St\, Indianapolis\, IN\, 46222\, United States
ATTACH;FMTTYPE=image/png:https://finalfourindy.com/wp-content/uploads/ffi-graphic-placeholder-red@2x.png
END:VEVENT
BEGIN:VEVENT
DTSTART;TZID=America/Indiana/Indianapolis:20250724T170000
DTEND;TZID=America/Indiana/Indianapolis:20250724T190000
DTSTAMP:20260422T051521
CREATED:20250328T141549Z
LAST-MODIFIED:20250707T193503Z
UID:10000015-1753376400-1753383600@finalfourindy.com
SUMMARY:NASCAR Hauler Parade
DESCRIPTION:The NASCAR Hauler Parade returns to kick off Brickyard Weekend. Haulers will drive down Main Street in Speedway in an epic display of color and excitement. Following the parade\, the haulers will be displayed on Main Street\, where fans can get an up-close look at their favorite driver’s hauler while enjoying free entertainment\, special guest appearances\, race-themed activities\, photo opportunities and more. The family-friendly event is free for fans of all ages. In addition\, Main Street establishments will be open for business and ready to welcome fans.
URL:https://finalfourindy.com/fan-jam-event/nascar-hauler-parade/
LOCATION:Main Street\, Speedway\, IN\, N Main Street\, Speedway\, IN\, 46224\, United States
ATTACH;FMTTYPE=image/jpeg:https://finalfourindy.com/wp-content/uploads/25_MFF_FanJam_1920x1080-1.jpg
END:VEVENT
BEGIN:VEVENT
DTSTART;TZID=America/Indiana/Indianapolis:20250509T180000
DTEND;TZID=America/Indiana/Indianapolis:20250509T200000
DTSTAMP:20260422T051521
CREATED:20250328T141450Z
LAST-MODIFIED:20250502T193209Z
UID:10000006-1746813600-1746820800@finalfourindy.com
SUMMARY:Porch Party
DESCRIPTION:Gather your friends\, family\, and neighbors to bring the Indy 500 fun right to your doorstep! Join us at the Advance Auto Parts on May 9 for a Porch Party packed with great activities. We can’t wait to see you there!
URL:https://finalfourindy.com/fan-jam-event/advance-auto-parts-porch-party/
LOCATION:Advance Auto Parts\, 636 Crawfordsville Rd\, Speedway\, IN\, 46224\, United States
ATTACH;FMTTYPE=image/png:https://finalfourindy.com/wp-content/uploads/ffi-graphic-placeholder-light@2x.png
END:VEVENT
BEGIN:VEVENT
DTSTART;TZID=America/Indiana/Indianapolis:20250508T173000
DTEND;TZID=America/Indiana/Indianapolis:20250508T183000
DTSTAMP:20260422T051521
CREATED:20250328T141446Z
LAST-MODIFIED:20250502T193042Z
UID:10000005-1746725400-1746729000@finalfourindy.com
SUMMARY:Avon Public Library Porch Party
DESCRIPTION:Gather your friends\, family\, and neighbors to bring the Indy 500 fun right to your doorstep! Join us at the Avon Public Library on May 8 for a Porch Party packed with great activities. We can’t wait to see you there!
URL:https://finalfourindy.com/fan-jam-event/avon-public-library-porch-party/
LOCATION:Avon Public Library\, 498 North Avon Avenue\, Avon\, IN\, 46123\, United States
ATTACH;FMTTYPE=image/png:https://finalfourindy.com/wp-content/uploads/ffi-graphic-placeholder-red@2x.png
END:VEVENT
BEGIN:VEVENT
DTSTART;TZID=America/Indiana/Indianapolis:20250506T160000
DTEND;TZID=America/Indiana/Indianapolis:20250506T180000
DTSTAMP:20260422T051521
CREATED:20250328T141446Z
LAST-MODIFIED:20250502T193233Z
UID:10000004-1746547200-1746554400@finalfourindy.com
SUMMARY:Porch Party
DESCRIPTION:Gather your friends\, family\, and neighbors to bring the Indy 500 fun right to your doorstep! Join us at the Group 1001 Headquarters on May 6 for a Porch Party packed with great activities. Be one of the first to grab one of the limited free Porch Party kits\, available on a first-come\, first-served basis. We can’t wait to see you there!
URL:https://finalfourindy.com/fan-jam-event/gainbridge-porch-party/
LOCATION:Group 1001 Headquarters\, 10555 Group 1001 Way\, Zionsville\, IN\, 46077\, United States
ATTACH;FMTTYPE=image/png:https://finalfourindy.com/wp-content/uploads/ffi-graphic-placeholder-light@2x.png
END:VEVENT
END:VCALENDAR